BEGIN:VCALENDAR
VERSION:2.0
PRODID:-//playDCgolf - ECPv6.15.18//NONSGML v1.0//EN
CALSCALE:GREGORIAN
METHOD:PUBLISH
X-ORIGINAL-URL:https://www.playdcgolf.com
X-WR-CALDESC:Events for playDCgolf
REFRESH-INTERVAL;VALUE=DURATION:PT1H
X-Robots-Tag:noindex
X-PUBLISHED-TTL:PT1H
BEGIN:VTIMEZONE
TZID:America/New_York
BEGIN:DAYLIGHT
TZOFFSETFROM:-0500
TZOFFSETTO:-0400
TZNAME:EDT
DTSTART:20230312T070000
END:DAYLIGHT
BEGIN:STANDARD
TZOFFSETFROM:-0400
TZOFFSETTO:-0500
TZNAME:EST
DTSTART:20231105T060000
END:STANDARD
BEGIN:DAYLIGHT
TZOFFSETFROM:-0500
TZOFFSETTO:-0400
TZNAME:EDT
DTSTART:20240310T070000
END:DAYLIGHT
BEGIN:STANDARD
TZOFFSETFROM:-0400
TZOFFSETTO:-0500
TZNAME:EST
DTSTART:20241103T060000
END:STANDARD
BEGIN:DAYLIGHT
TZOFFSETFROM:-0500
TZOFFSETTO:-0400
TZNAME:EDT
DTSTART:20250309T070000
END:DAYLIGHT
BEGIN:STANDARD
TZOFFSETFROM:-0400
TZOFFSETTO:-0500
TZNAME:EST
DTSTART:20251102T060000
END:STANDARD
END:VTIMEZONE
BEGIN:VEVENT
DTSTART;TZID=America/New_York:20240502T140000
DTEND;TZID=America/New_York:20240502T180000
DTSTAMP:20260423T044156
CREATED:20240424T185447Z
LAST-MODIFIED:20240424T185447Z
UID:1837-1714658400-1714672800@www.playdcgolf.com
SUMMARY:Wilson Fitting Day
DESCRIPTION:Sign up for a custom club fitting with Wilson at the East Potomac Driving Range with Wilson club fitters! Appointments available between 2 and 6 PM.
URL:https://www.playdcgolf.com/event/wilson-fitting-day/
LOCATION:East Potomac Golf Links\, 972 Ohio Dr. SW\, Washinton\, DC\, 20024
END:VEVENT
BEGIN:VEVENT
DTSTART;TZID=America/New_York:20240505T090000
DTEND;TZID=America/New_York:20240505T160000
DTSTAMP:20260423T044156
CREATED:20240417T184817Z
LAST-MODIFIED:20240417T185005Z
UID:1756-1714899600-1714924800@www.playdcgolf.com
SUMMARY:Dos Amigos Golf Tournament
DESCRIPTION:Registration opens on Thursday\, April 18 at 4 PM! Join the playDCgolf team for the Third Annual Dos Amigos Golf Tournament at the Historic Langston Golf Course. Grab you favorite playing partner for this fun Cinco de Mayo themed celebration. \nWhen: Sunday\, May 5th / 9 AM Shotgun Start / 8 AM Check-in\, Breakfast\, and Welcome Beverage stations open \nFormat: 18-hole\, 2-person Shamble \nPrice: $100 per person | Price includes: Greens fee\, cart fee\, warm-up bucket of range balls\, prize fund\, breakfast burrito\, and a welcome margarita during check-in (sponsored by Olmeca Altos Tequila)
URL:https://www.playdcgolf.com/event/dos-amigos-golf-tournament/
LOCATION:Langston Golf Course\, 2600 Benning Rd. NE\, Washington\, DC
ORGANIZER;CN="playDCgolf":MAILTO:info@playdcgolf.com
END:VEVENT
BEGIN:VEVENT
DTSTART;TZID=America/New_York:20240518T090000
DTEND;TZID=America/New_York:20240518T170000
DTSTAMP:20260423T044156
CREATED:20240417T133803Z
LAST-MODIFIED:20240417T133901Z
UID:1752-1716022800-1716051600@www.playdcgolf.com
SUMMARY:2nd Annual HBCU & Friends Golf Fundraiser
DESCRIPTION:Come help the SVGS Foundation raise funds for underrepresented communities at Langston Golf Links. Seeking Vision Gaining Success Foundation is a 501 (3)(c) organization that provides scholarships to minority males attending HBCUs. Langston Golf Course is a historic 18-Hole course named after John Mercer Langston\, the first African American elected into public office. The facility is a celebrated beacon of African American golf heritage. \nSaturday\, May 18\, 2024 \nCheck-in for the event will be at 7:30am \nFollowed by a 9am Shotgun \nFormat: 18-hole 4-person scramble \nThe price of tickets includes : Green fee\, cart fee\, warm-up bucket of range balls\, prize fund\, breakfast and welcome beverage during check-in\, and 2 drink tickets for the round. \nIf the tournament has to be rescheduled due to weather\, then players will be \noffered a refund if they cannot attend the rescheduled date. \nIf you have any questions please contact Info@svgsfoundation.org or cara.hawkins@playdcgolf.com.
URL:https://www.playdcgolf.com/event/2nd-annual-hbcu-friends-golf-fundraiser/
LOCATION:Langston Golf Course\, 2600 Benning Rd. NE\, Washington\, DC
END:VEVENT
END:VCALENDAR